BEGIN:VCALENDAR
VERSION:2.0
PRODID:-//eventon.com NONSGML v1.0//EN
CALSCALE:GREGORIAN
METHOD:PUBLISH
BEGIN:VEVENT
UID:69e8b06373b4a
DTSTAMP:20260422T112627Z
DTSTART:20230303T004500Z
DTEND:20230303T023000Z
LOCATION:
SUMMARY:Religious Nationalism and Conversion
DESCRIPTION:A nation’s identity is shaped by several  experiences. Thes
 e include a common history\,  geography\,  language\,  ethnicity\,  religio
 n and other factors. In some situations\,  in the strive for national ident
 ity\,  nationalism emerges. Increasingly in Asia\,  we are experiencing the
  rise of religion in shaping nationalism. This has consequences for the Ch
 urch in Mission.[..]\nhttps://www.scgm.org.sg/events/mbf032023/
URL:https://www.scgm.org.sg/events/mbf032023/
END:VEVENT
END:VCALENDAR