BEGIN:VCALENDAR
VERSION:2.0
PRODID:-//eventon.com NONSGML v1.0//EN
CALSCALE:GREGORIAN
METHOD:PUBLISH
BEGIN:VEVENT
UID:69e75281633c4
DTSTAMP:20260421T103337Z
DTSTART:20230414T000000Z
DTEND:20230414T023000Z
LOCATION:
SUMMARY:How Does the Gospel Sound in Buddhist Ears?
DESCRIPTION:In missions and in evangelism\,  we are often more concerned ab
 out what we say than how our listeners hear and understand the Gospel. Ofte
 n times\,  the Gospel as we usually present is not understood by others in 
 the way we wish for them to know. At this mission dialogue\,  we[..]\nhttps
 ://www.scgm.org.sg/events/mbf042023/
URL:https://www.scgm.org.sg/events/mbf042023/
END:VEVENT
END:VCALENDAR