BEGIN:VCALENDAR
VERSION:2.0
PRODID:-//eventon.com NONSGML v1.0//EN
CALSCALE:GREGORIAN
METHOD:PUBLISH
BEGIN:VEVENT
UID:69ed8ba1b57b3
DTSTAMP:20260426T035057Z
DTSTART:20240706T010000Z
DTEND:20240706T143000Z
LOCATION:
SUMMARY:MISSIONS IN A DIGITAL AGE
DESCRIPTION:Why is digital missions a new frontier for mission today\,  and
  why should Singapore churches care? How has living in a digital world impa
 ct and affect the way we engage in ministry and missions? Can we innovate a
 nd utilise Web 3.0 as part of missionary efforts? What are the challenges?[
 ..]\nhttps://www.scgm.org.sg/events/mc7-2024/
URL:https://www.scgm.org.sg/events/mc7-2024/
END:VEVENT
END:VCALENDAR